BEGIN:VCALENDAR
VERSION:2.0
PRODID:-//Pastoral Nipo-Brasileira - ECPv4.4.2//NONSGML v1.0//EN
CALSCALE:GREGORIAN
METHOD:PUBLISH
X-WR-CALNAME:Pastoral Nipo-Brasileira
X-ORIGINAL-URL:http://panib.org.br
X-WR-CALDESC:Events for Pastoral Nipo-Brasileira
BEGIN:VEVENT
DTSTART;TZID=UTC-3:20230525T080000
DTEND;TZID=UTC-3:20230525T170000
DTSTAMP:20260423T103133
CREATED:20230525T224524Z
LAST-MODIFIED:20230525T224524Z
UID:24174-1685001600-1685034000@panib.org.br
SUMMARY:FESTA DO SUKIYAKI da PANIB-MOGI DAS CRUZES
DESCRIPTION:A Comunidade da Paróquia São Maximiliano Kolbe de Mogi das Cruzes (SP)\, ligada à PANIB – Pastoral Nipo-Brasileira\, convida você e sua família a participarem da tradicional FESTA DO SUKIYAKI.\nO evento acontecerá no dia 03 de junho (sábado)\, das 12 às 21 horas\, na quadra junto à Paróquia.\nVenha saborear esse delicioso SUKIYAKI (que tem fama de melhor sukiyaki da região) e passar um dia agradável\, num ambiente alegre e fraterno.\nCom isso\, também\, você estará colaborando com as obras sociais da Paróquia\, bem como\, para a manutenção da Igreja.\nCONTAMOS COM A SUA PRECIOSA PRESENÇA\, juntamente com seus familiares e amigos!
URL:http://panib.org.br/evento/festa-do-sukiyaki-da-panib-mogi-das-cruzes/
ATTACH;FMTTYPE=image/jpeg:http://panib.org.br/wp-content/uploads/2023/05/MOGI-SUKIYAKI-1.jpg
END:VEVENT
END:VCALENDAR